BEGIN:VCALENDAR
VERSION:2.0
PRODID:-//Docteur Obambi - ECPv6.15.20//NONSGML v1.0//EN
CALSCALE:GREGORIAN
METHOD:PUBLISH
X-WR-CALNAME:Docteur Obambi
X-ORIGINAL-URL:https://www.docteurobambi.com
X-WR-CALDESC:Events for Docteur Obambi
REFRESH-INTERVAL;VALUE=DURATION:PT1H
X-Robots-Tag:noindex
X-PUBLISHED-TTL:PT1H
BEGIN:VTIMEZONE
TZID:America/Toronto
BEGIN:DAYLIGHT
TZOFFSETFROM:-0500
TZOFFSETTO:-0400
TZNAME:EDT
DTSTART:20250309T070000
END:DAYLIGHT
BEGIN:STANDARD
TZOFFSETFROM:-0400
TZOFFSETTO:-0500
TZNAME:EST
DTSTART:20251102T060000
END:STANDARD
BEGIN:DAYLIGHT
TZOFFSETFROM:-0500
TZOFFSETTO:-0400
TZNAME:EDT
DTSTART:20260308T070000
END:DAYLIGHT
BEGIN:STANDARD
TZOFFSETFROM:-0400
TZOFFSETTO:-0500
TZNAME:EST
DTSTART:20261101T060000
END:STANDARD
BEGIN:DAYLIGHT
TZOFFSETFROM:-0500
TZOFFSETTO:-0400
TZNAME:EDT
DTSTART:20270314T070000
END:DAYLIGHT
BEGIN:STANDARD
TZOFFSETFROM:-0400
TZOFFSETTO:-0500
TZNAME:EST
DTSTART:20271107T060000
END:STANDARD
BEGIN:DAYLIGHT
TZOFFSETFROM:-0500
TZOFFSETTO:-0400
TZNAME:EDT
DTSTART:20280312T070000
END:DAYLIGHT
BEGIN:STANDARD
TZOFFSETFROM:-0400
TZOFFSETTO:-0500
TZNAME:EST
DTSTART:20281105T060000
END:STANDARD
END:VTIMEZONE
BEGIN:VEVENT
DTSTART;TZID=America/Toronto:20260401T080000
DTEND;TZID=America/Toronto:20261231T170000
DTSTAMP:20260421T104242
CREATED:20260419T213849Z
LAST-MODIFIED:20260419T213849Z
UID:464-1775030400-1798736400@www.docteurobambi.com
SUMMARY:Strategic Consultation
DESCRIPTION:⭐ STRATEGIC CONSULTATION \nDescription courte pour ticket : Une session stratégique de 45 minutes pour obtenir des réponses claires\, rapides et adaptées à votre situation. Idéal pour ceux qui ont besoin d’orientation immédiate\, de conseils précis et d’un plan d’action simple pour avancer sans perdre de temps.
URL:https://www.docteurobambi.com/index.php/event/strategic-consultation/
LOCATION:Event Studio\, 112 Main St\, Missoula\, MT\, United States
ORGANIZER;CN="Docteur Obambi":MAILTO:Contact@docteurobambi.com
END:VEVENT
BEGIN:VEVENT
DTSTART;TZID=America/Toronto:20260401T080000
DTEND;TZID=America/Toronto:20270430T170000
DTSTAMP:20260421T104242
CREATED:20260419T214420Z
LAST-MODIFIED:20260419T214420Z
UID:467-1775030400-1809104400@www.docteurobambi.com
SUMMARY:Premium Consultation
DESCRIPTION:⭐ PREMIUM CONSULTATION \nDescription courte pour ticket : Une consultation approfondie de 90 minutes pour analyser votre situation en détail et construire une stratégie personnalisée. Vous repartez avec un plan d’action structuré et un résumé complet envoyé par email pour assurer votre progression.
URL:https://www.docteurobambi.com/index.php/event/premium-consultation/
LOCATION:Event Studio\, 112 Main St\, Missoula\, MT\, United States
ORGANIZER;CN="Docteur Obambi":MAILTO:Contact@docteurobambi.com
END:VEVENT
BEGIN:VEVENT
DTSTART;TZID=America/Toronto:20260401T080000
DTEND;TZID=America/Toronto:20270430T170000
DTSTAMP:20260421T104242
CREATED:20260419T215306Z
LAST-MODIFIED:20260419T215306Z
UID:470-1775030400-1809104400@www.docteurobambi.com
SUMMARY:VIP EXECUTIVE CONSULTATION
DESCRIPTION:⭐ VIP EXECUTIVE CONSULTATION \nDescription courte pour ticket : Une expérience d’accompagnement premium de 200 minutes (en une ou plusieurs sessions). Vous recevez une feuille de route complète\, une analyse stratégique avancée et un suivi prioritaire pendant 7 jours. Parfait pour les projets sérieux et les décisions à fort impact.
URL:https://www.docteurobambi.com/index.php/event/vip-executive-consultation/
LOCATION:Microsoft Teams\, Microsoft Teams
ORGANIZER;CN="Docteur Obambi":MAILTO:Contact@docteurobambi.com
END:VEVENT
BEGIN:VEVENT
DTSTART;TZID=America/Toronto:20260430T180000
DTEND;TZID=America/Toronto:20260430T210000
DTSTAMP:20260421T104242
CREATED:20260418T014205Z
LAST-MODIFIED:20260418T014756Z
UID:365-1777572000-1777582800@www.docteurobambi.com
SUMMARY:Rester\, Entreprendre et Réussir en Chine
DESCRIPTION:Vous êtes étudiant international\, jeune diplômé\, professionnel ou entrepreneur et vous souhaitez rester en Chine\, y créer une activité\, ou collaborer avec des usines chinoises ? Cette masterclass est conçue pour vous donner les clés concrètes\, les stratégies légales\, et les opportunités réelles pour bâtir votre avenir en Chine. \nPendant cette session exclusive\, vous apprendrez comment : \n\nRester légalement en Chine après vos études\nCréer votre entreprise ou obtenir un statut légal durable\nTrouver des usines fiables et collaborer efficacement avec elles\nGénérer des revenus depuis la Chine\, même sans retourner dans votre pays d’origine\n\nÀ qui s’adresse cette Masterclass ?\nCette formation est idéale pour : \n\nÉtudiants internationaux actuellement en Chine\nÉtudiants en fin de parcours cherchant une solution pour rester\nJeunes professionnels souhaitant bâtir leur carrière en Chine\nEntrepreneurs voulant travailler avec des usines chinoises ou développer un projet d’import–export\n\nPROGRAMME DE LA MASTERCLASS\nModule 1 — La réalité après les études\nComprendre ce qui se passe après l’expiration du visa étudiant\, les options légales pour rester et les erreurs à éviter. \nModule 2 — Opportunités d’affaires en Chine\nDécouvrir les secteurs porteurs\, l’import–export\, la collaboration avec les usines et les partenaires chinois. \nModule 3 — Rester légalement en Chine\nVisa business\, visa de travail\, partenariats locaux\, création d’une structure légale. \nModule 4 — Trouver des usines fiables\nOù chercher\, comment négocier\, éviter les arnaques\, assurer le contrôle qualité. \nModule 5 — Construire un réseau (Guanxi)\nComprendre le Guanxi\, contacter les fournisseurs\, participer aux salons et événements. \nModule 6 — Votre premier contrat\nChoisir un produit\, trouver des acheteurs en Afrique\, Europe ou Amérique\, gérer la logistique internationale. \nModule 7 — Réussir sa vie en Chine\nIntelligence culturelle\, gestion des partenaires chinois\, stratégie long terme. \nSéance d’échanges \nUne session ouverte pour poser vos questions\, partager vos projets et recevoir des conseils personnalisés.
URL:https://www.docteurobambi.com/index.php/event/rester-entreprendre-et-reussir-en-chine/
LOCATION:Microsoft Teams\, Microsoft Teams
ORGANIZER;CN="Docteur Obambi":MAILTO:Contact@docteurobambi.com
END:VEVENT
BEGIN:VEVENT
DTSTART;TZID=America/Toronto:20260502T180000
DTEND;TZID=America/Toronto:20260502T210000
DTSTAMP:20260421T104242
CREATED:20260419T013332Z
LAST-MODIFIED:20260419T013332Z
UID:380-1777744800-1777755600@www.docteurobambi.com
SUMMARY:How to obtain the permanent residence in Canada without paying any agencies
DESCRIPTION:MASTERCLASS EXCLUSIVE : How to Obtain Canadian Permanent Residency From Your Country — Without Using Agencies\nYou want to move to Canada\, obtain Permanent Residency\, and build a stable future — but without paying thousands to agencies or falling into misinformation. This masterclass reveals a legal\, structured\, and accessible method to apply for Canadian PR directly from your home country\, using official pathways that many people overlook. \nDuring this session\, Dr. Obambi will guide you step-by-step through the exact process\, the requirements\, the documents\, and the strategies that increase your chances of success. \nWhat You Will Learn\n\nThe legal immigration programs that allow you to obtain PR from your country\nHow to apply without using agencies\nHow to prepare your documents correctly\nHow to avoid the most common mistakes applicants make\nHow to choose the right program based on your profile\nHow to build a strong application that stands out\nHow to plan your arrival and integration in Canada\n\nWho Should Attend\n\nProfessionals seeking a new life in Canada\nStudents preparing their immigration plan\nFamilies wanting a safe and legal pathway\nAnyone who wants to avoid expensive agencies and do the process independently\n\nAbout the Speaker\nDr. OBAMBI International Business Consultant (China Specialist) Experienced in international mobility\, business strategy\, and global opportunities. \nDate\n2nd May 2026 \nWhy This Masterclass Is Different\nYou will receive clear\, actionable\, and verified information\, not rumors or shortcuts. You will leave with a real plan\, a real method\, and the confidence to start your PR process immediately.
URL:https://www.docteurobambi.com/index.php/event/how-to-obtain-the-permanent-residence-in-canada-without-paying-any-agencies/
LOCATION:Microsoft Teams\, Microsoft Teams
ORGANIZER;CN="Docteur Obambi":MAILTO:Contact@docteurobambi.com
END:VEVENT
BEGIN:VEVENT
DTSTART;TZID=America/Toronto:20260516T180000
DTEND;TZID=America/Toronto:20260516T210000
DTSTAMP:20260421T104242
CREATED:20260419T031815Z
LAST-MODIFIED:20260419T031831Z
UID:419-1778954400-1778965200@www.docteurobambi.com
SUMMARY:MASTERCLASS — How to Get a Scholarship in China
DESCRIPTION:EVENT DESCRIPTION\nMASTERCLASS — How to Get a Scholarship in China\nDate: May 16\, 2026 \nStudying in China has become one of the most accessible and valuable opportunities for international students — but most people don’t know how to secure a fully funded scholarship. In this masterclass\, Dr. Obambi reveals a clear\, realistic\, and proven method to obtain a scholarship in China\, whether you are a student\, a recent graduate\, or someone looking to restart your academic journey. \nYou will learn exactly how scholarships work\, how to apply\, what documents you need\, and how to maximize your chances of being selected — without relying on agencies or misinformation. \nThis session gives you the strategy\, structure\, and confidence to start your scholarship journey immediately. \n\nMASTERCLASS PLAN\nModule 1 — Understanding Scholarships in China\n\nTypes of scholarships (CSC\, University\, Provincial\, Partial)\nEligibility criteria\nHow selection really works\n\nModule 2 — Choosing the Right University & Program\n\nHow to identify programs that accept international students\nMatching your profile with the right scholarship\nAvoiding common mistakes when selecting universities\n\nModule 3 — Building a Strong Application File\n\nRequired documents\nHow to write a powerful study plan\nHow to present your academic background\nTips to stand out from other applicants\n\nModule 4 — Application Process Step‑by‑Step\n\nHow to apply directly\nHow to contact universities\nDeadlines and timing strategy\nWhat to do if you miss the main application window\n\nModule 5 — Maximizing Your Chances of Approval\n\nWhat scholarship committees look for\nHow to avoid rejection\nHow to strengthen your profile even with low grades\n\nModule 6 — After You Get the Scholarship\n\nVisa process\nPreparing for your arrival in China\nWhat to expect during your first months\n\nFinal Q&A Session\nA dedicated moment to ask your questions and receive personalized guidance.
URL:https://www.docteurobambi.com/index.php/event/masterclass-how-to-get-a-scholarship-in-china/
LOCATION:Microsoft Teams\, Microsoft Teams
ORGANIZER;CN="Docteur Obambi":MAILTO:Contact@docteurobambi.com
END:VEVENT
BEGIN:VEVENT
DTSTART;TZID=America/Toronto:20260523T200000
DTEND;TZID=America/Toronto:20260523T200000
DTSTAMP:20260421T104242
CREATED:20260419T033805Z
LAST-MODIFIED:20260419T183640Z
UID:424-1779566400-1779566400@www.docteurobambi.com
SUMMARY:Everything You Should Know to Travel to China for Business
DESCRIPTION:MASTERCLASS — 23 May 2026\nEverything You Should Know to Travel to China for Business\nTraveling to China for business requires more than just a ticket — it demands preparation\, cultural intelligence\, and a clear understanding of how business is done in the world’s most dynamic economy. In this masterclass\, Dr. Obambi gives you a complete\, practical\, and up‑to‑date guide to successfully enter China\, navigate the business environment\, and avoid costly mistakes. \nWhether you are an entrepreneur\, investor\, importer\, or someone planning your first business trip\, this session equips you with the knowledge\, strategy\, and confidence to travel and operate effectively in China.                                                                                                           MASTERCLASS PLAN \nModule 1 — Preparing Your Business Trip\n\nVisa types and requirements\nEssential documents to prepare\nHow to plan your itinerary strategically\nWhat to expect at Chinese immigration\n\nModule 2 — Understanding the Chinese Business Environment\n\nHow business is really done in China\nKey industries and opportunities\nThe role of relationships (Guanxi)\nBusiness etiquette and cultural rules\n\nModule 3 — Meeting Suppliers and Partners\n\nHow to find reliable factories and companies\nHow to schedule meetings the right way\nWhat to ask during factory visits\nRed flags to avoid\n\nModule 4 — Negotiation & Communication\n\nHow Chinese partners negotiate\nHow to present your project\nCommon misunderstandings and how to avoid them\nBuilding trust with Chinese partners\n\nModule 5 — Logistics\, Payments & Contracts\n\nSafe payment methods\nHow to avoid scams\nShipping\, customs\, and international logistics\nBasic contract structure for business in China\n\nModule 6 — Practical Tips for Your Stay\n\nTransportation\, hotels\, and safety\nApps you must install before traveling\nMoney\, SIM cards\, and digital payments\nHow to move efficiently inside China\n\nFinal Q&A Session\nA dedicated moment to ask your questions and receive personalized guidance for your specific business goals.
URL:https://www.docteurobambi.com/index.php/event/everything-you-should-know-to-travel-to-china-for-business/
LOCATION:Microsoft Teams\, Microsoft Teams
ORGANIZER;CN="Docteur Obambi":MAILTO:Contact@docteurobambi.com
END:VEVENT
END:VCALENDAR